BEGIN:VCALENDAR
VERSION:2.0
PRODID:-//ChamberMaster//Event Calendar 2.0//EN
METHOD:PUBLISH
X-PUBLISHED-TTL:P3D
REFRESH-INTERVAL:P3D
CALSCALE:GREGORIAN
BEGIN:VEVENT
DTSTART;VALUE=DATE:20230517
DTEND;VALUE=DATE:20230710
TRANSP:TRANSPARENT
X-MICROSOFT-CDO-ALLDAYEVENT:TRUE
SUMMARY:ALL SHOOK UP-PG
DESCRIPTION:Elvis meets Shakespeare in this hip-swiveling\, knee-popping 1950's fantasy that will have you jumping out of your blue suede shoes! Rated PG
X-ALT-DESC;FMTTYPE=text/html:Elvis meets Shakespeare in this hip-swiveling\, knee-popping 1950&#39\;s fantasy that will have you jumping out of your blue suede shoes! Rated PG
LOCATION:ROGER ROCKA'S DINNER THEATER 1226 N WISHON AVE\, FRESNO 93728
UID:e.1847.11905
SEQUENCE:3
DTSTAMP:20260420T211816Z
URL:https://business.fresnochamber.com/events/details/all-shook-up-pg-11905
END:VEVENT

END:VCALENDAR
