BEGIN:VCALENDAR
VERSION:2.0
PRODID:-//ChamberMaster//Event Calendar 2.0//EN
METHOD:PUBLISH
X-PUBLISHED-TTL:P3D
REFRESH-INTERVAL:P3D
CALSCALE:GREGORIAN
BEGIN:VEVENT
DTSTART:20250402T230000Z
DTEND:20250403T000000Z
X-MICROSOFT-CDO-ALLDAYEVENT:FALSE
SUMMARY:Breaking Barriers: Leading with Confidence and Impact
DESCRIPTION:This engaging and empowering NU Speaker Series will explore what holds people back from pursuing their dreams   fear of failure\, self-doubt\, financial concerns and how to overcome these barriers with clarity and courage. Drawing from expertise in leadership and resilience\, Marianne Clyde (NU\, MA '91) will provide practical strategies to recognize life's call for growth\, take bold action\, and expand your influence. Whether you're launching a new venture\, advancing in your career\, or seeking greater fulfillment\, this session will inspire you to move past hesitation\, embrace opportunities\, and lead with confidence. About the speaker: Marianne is an award-winning entrepreneur\, author\, and leadership coach dedicated to helping individuals break through limitations and create lives of impact. With decades of experience in personal and professional development\, she has guided leaders\, business owners\, and changemakers toward greater confidence\, resilience\, and success.
X-ALT-DESC;FMTTYPE=text/html:This engaging and empowering NU Speaker Series will explore what holds people back from pursuing their dreams &ndash\; fear of failure\, self-doubt\, financial concerns&mdash\;and how to overcome these barriers with clarity and courage. Drawing from expertise in leadership and resilience\, Marianne Clyde (NU\, MA &rsquo\;91) will provide practical strategies to recognize life&rsquo\;s call for growth\, take bold action\, and expand your influence. Whether you&rsquo\;re launching a new venture\, advancing in your career\, or seeking greater fulfillment\, this session will inspire you to move past hesitation\, embrace opportunities\, and lead with confidence. About the speaker: Marianne is an award-winning entrepreneur\, author\, and leadership coach dedicated to helping individuals break through limitations and create lives of impact. With decades of experience in personal and professional development\, she has guided leaders\, business owners\, and changemakers toward greater confidence\, resilience\, and success.
LOCATION:Zoom: https://nu.zoom.us/webinar/register/6917419075257/WN_7XIj_q7iTGG-8xhBaMjpWw
UID:e.1847.12775
SEQUENCE:3
DTSTAMP:20260422T000459Z
URL:https://business.fresnochamber.com/events/details/breaking-barriers-leading-with-confidence-and-impact-12775
END:VEVENT

END:VCALENDAR
