BEGIN:VCALENDAR
VERSION:2.0
PRODID:-//ChamberMaster//Event Calendar 2.0//EN
METHOD:PUBLISH
X-PUBLISHED-TTL:P3D
REFRESH-INTERVAL:P3D
CALSCALE:GREGORIAN
BEGIN:VEVENT
DTSTART:20230625T150000Z
DTEND:20230630T220000Z
X-MICROSOFT-CDO-ALLDAYEVENT:FALSE
SUMMARY:Fresno Pacific University Summer Music Camp
DESCRIPTION:Visit Fresno Pacific's Music department in experiencing knowledge from award-winning working musicians and creative ensemble leaders. These individuals are excited to pass down their knowledge and faith to the next generation of musicians. Early Bird registration offers $25 off for those who register by May 15. Regular registration continues through June 1. Students entering grades six through 12 (ages 11-19 as of September 1\, 2023) from novice to advanced levels are welcome. Concerts\, masterclasses\, devotions and leisure activities will be on the main FPU campus\, 1717 S. Chestnut Ave.\, Fresno. Campers will have the option to stay the week in the dorms with counselors or take part as a day camper. Register at fpu.edu/music-camp
X-ALT-DESC;FMTTYPE=text/html:Visit Fresno Pacific&rsquo\;s Music department in experiencing knowledge from award-winning working musicians and creative ensemble leaders. These individuals are excited to pass down their knowledge and faith to the next generation of musicians. Early Bird registration offers $25 off for those who register by May 15. Regular registration continues through June 1. Students entering grades six through 12 (ages 11-19 as of September 1\, 2023) from novice to advanced levels are welcome. Concerts\, masterclasses\, devotions and leisure activities will be on the main FPU campus\, 1717 S. Chestnut Ave.\, Fresno. Campers will have the option to stay the week in the dorms with counselors or take part as a day camper. Register at fpu.edu/music-camp
LOCATION:Fresno Pacific university\, Cultural Arts Center
UID:e.1847.11908
SEQUENCE:3
DTSTAMP:20260420T212037Z
URL:https://business.fresnochamber.com/events/details/fresno-pacific-university-summer-music-camp-11908
END:VEVENT

END:VCALENDAR
