BEGIN:VCALENDAR
VERSION:2.0
PRODID:-//ChamberMaster//Event Calendar 2.0//EN
METHOD:PUBLISH
X-PUBLISHED-TTL:P3D
REFRESH-INTERVAL:P3D
CALSCALE:GREGORIAN
BEGIN:VEVENT
DTSTART:20260321T170000Z
DTEND:20260321T200000Z
X-MICROSOFT-CDO-ALLDAYEVENT:FALSE
SUMMARY:Fresno Polar Plunge for Special Olympics NorCal
DESCRIPTION:Ready to brave the waters for Special Olympics Northern California? Join the Fresno Polar Plunge\, a fun dip\, skip\, or jump into Millerton Lake for a great cause! Don't want to get wet? Register as a chicken\, and you'll be excused from plunging but still qualify for the incentive rewards and other festivities. Your support helps Special Olympics NorCal provide free\, year-round programs for people with intellectual disabilities and spark joy through the power of sports.
X-ALT-DESC;FMTTYPE=text/html:Ready to brave the waters for Special Olympics Northern California? Join the Fresno Polar Plunge\, a fun dip\, skip\, or jump into Millerton Lake for a great cause! Don&rsquo\;t want to get wet? Register as a chicken\, and you&#39\;ll be excused from plunging but still qualify for the incentive rewards and other festivities. Your support helps Special Olympics NorCal provide free\, year-round programs for people with intellectual disabilities and spark joy through the power of sports.
LOCATION:Millerton Lake
UID:e.1847.13815
SEQUENCE:3
DTSTAMP:20260419T120015Z
URL:https://business.fresnochamber.com/events/details/fresno-polar-plunge-for-special-olympics-norcal-13815
END:VEVENT

END:VCALENDAR
