BEGIN:VCALENDAR
VERSION:2.0
PRODID:-//ChamberMaster//Event Calendar 2.0//EN
METHOD:PUBLISH
X-PUBLISHED-TTL:P3D
REFRESH-INTERVAL:P3D
CALSCALE:GREGORIAN
BEGIN:VEVENT
DTSTART:20231114T170000Z
DTEND:20231114T190000Z
X-MICROSOFT-CDO-ALLDAYEVENT:FALSE
SUMMARY:Fresno Senior Center Informational Meeting
DESCRIPTION:The designs are in for the new\, dedicated citywide senior activity center! Participate in one of multiple opportunities through December 15\, 2023 to provide feedback on the conceptual design.\n\nVisit fresno.gov/seniorcenter to learn more.
X-ALT-DESC;FMTTYPE=text/html:The designs are in for the new\, dedicated citywide senior activity center! Participate in one of multiple opportunities through December 15\, 2023 to provide feedback on the conceptual design.<br />\n<strong>Visit fresno.gov/seniorcenter to learn more.</strong>
LOCATION:1917 S Chestnut Ave. Fresno\, CA 93702 (Senior Citizens Village)
UID:e.1847.11984
SEQUENCE:3
DTSTAMP:20260423T223744Z
URL:https://business.fresnochamber.com/events/details/fresno-senior-center-informational-meeting-11-14-2023-11984
END:VEVENT

END:VCALENDAR
