BEGIN:VCALENDAR
VERSION:2.0
PRODID:-//ChamberMaster//Event Calendar 2.0//EN
METHOD:PUBLISH
X-PUBLISHED-TTL:P3D
REFRESH-INTERVAL:P3D
CALSCALE:GREGORIAN
BEGIN:VEVENT
DTSTART:20260425T160000Z
DTEND:20260425T173000Z
X-MICROSOFT-CDO-ALLDAYEVENT:FALSE
SUMMARY:Scavenger Hunt
DESCRIPTION:If your little ones enjoy being outdoors\, fun facts\, and searching for hidden items\, then this is the perfect activity for you. Compete in a scavenger hunt around one of The San Joaquin River Parkway Property. The first group to finish each hunt will win a Family Voucher to Ampersand Ice Cream ($20 value) If your group arrives after the start time\, you will still be able to participate\, but you will have less time. This event is designed to be fun for the whole family\; all ages are welcome.
X-ALT-DESC;FMTTYPE=text/html:If your little ones enjoy being outdoors\, fun facts\, and searching for hidden items\, then this is the perfect activity for you. Compete in a scavenger hunt around one of The San Joaquin River Parkway Property. The first group to finish each hunt will win a Family Voucher to Ampersand Ice Cream ($20 value) If your group arrives after the start time\, you will still be able to participate\, but you will have less time. This event is designed to be fun for the whole family\; all ages are welcome.
LOCATION:The River Center\, 11605 Old Friant Road\, Fresno\, CA 93730
UID:e.1847.13874
SEQUENCE:3
DTSTAMP:20260423T143807Z
URL:https://business.fresnochamber.com/events/details/scavenger-hunt-13874
END:VEVENT

END:VCALENDAR
