BEGIN:VCALENDAR
VERSION:2.0
PRODID:-//ChamberMaster//Event Calendar 2.0//EN
METHOD:PUBLISH
X-PUBLISHED-TTL:P3D
REFRESH-INTERVAL:P3D
CALSCALE:GREGORIAN
BEGIN:VEVENT
DTSTART:20260321T160000Z
DTEND:20260321T180000Z
X-MICROSOFT-CDO-ALLDAYEVENT:FALSE
SUMMARY:The Big Squeeze/ Hoy Guacamole Seminar
DESCRIPTION:Join us at Belmont Nursery to delve deeper into the world of citrus and avocado tree care and gain valuable knowledge to ensure your trees thrive year-round!
X-ALT-DESC;FMTTYPE=text/html:Join us at Belmont Nursery to delve deeper into the world of citrus and avocado tree care and gain valuable knowledge to ensure your trees thrive year-round!
LOCATION:Belmont Nursery 7730 E Belmont Ave Fresno\, CA 93737
UID:e.1847.13817
SEQUENCE:3
DTSTAMP:20260419T115845Z
URL:https://business.fresnochamber.com/events/details/the-big-squeeze-hoy-guacamole-seminar-13817
END:VEVENT

END:VCALENDAR
