BEGIN:VCALENDAR
VERSION:2.0
PRODID:-//ChamberMaster//Event Calendar 2.0//EN
METHOD:PUBLISH
X-PUBLISHED-TTL:P3D
REFRESH-INTERVAL:P3D
CALSCALE:GREGORIAN
BEGIN:VEVENT
DTSTART:20210920T000000Z
DTEND:20210920T030000Z
X-MICROSOFT-CDO-ALLDAYEVENT:FALSE
SUMMARY:The Vintage Press\, Singles upscale dining and speed networking
DESCRIPTION:A fun night for mature singles of upscale dining and speed networking. Small event for 40 people: 20 women and 20 men.
X-ALT-DESC;FMTTYPE=text/html:A fun night for mature singles of upscale dining and speed networking. Small event for 40 people: 20 women and 20 men.
LOCATION:The Vintage Press 216 N. Willis Street Visalia\, Ca.
UID:e.1847.11637
SEQUENCE:3
DTSTAMP:20260423T214721Z
URL:https://business.fresnochamber.com/events/details/the-vintage-press-singles-upscale-dining-and-speed-networking-11637
END:VEVENT

END:VCALENDAR
