BEGIN:VCALENDAR
VERSION:2.0
PRODID:-//ChamberMaster//Event Calendar 2.0//EN
METHOD:PUBLISH
X-PUBLISHED-TTL:P3D
REFRESH-INTERVAL:P3D
CALSCALE:GREGORIAN
BEGIN:VEVENT
DTSTART:20190207T233000Z
DTEND:20190208T003000Z
X-MICROSOFT-CDO-ALLDAYEVENT:FALSE
SUMMARY:Travel Information Session to Canada & Iceland
DESCRIPTION:Fresno Chamber of Commerce presents! \n\n\n\nGreat Canadian Cities & Iceland Explorer\n\nBy Chamber Explorations\n\n\n\nYou will receive all the travel highlights\, inclusions and tour rates.  Please register to attend the session.
X-ALT-DESC;FMTTYPE=text/html:Fresno Chamber of Commerce presents!&nbsp\;<br />\n<br />\nGreat Canadian Cities &amp\; Iceland Explorer<br />\nBy Chamber Explorations<br />\n<br />\nYou will receive all the travel highlights\, inclusions and tour rates.&nbsp\; Please register to attend the session.&nbsp\;
LOCATION:Fresno Chamber of Commerce Gottschalks Board Room 2331 Fresno Street Fresno\, CA 93727
UID:e.1847.10596
SEQUENCE:3
DTSTAMP:20260419T194707Z
URL:https://business.fresnochamber.com/events/details/travel-information-session-to-canada-iceland-10596
END:VEVENT

END:VCALENDAR
